BEGIN:VCALENDAR
VERSION:2.0
PRODID:-//Durham Regional Assc of Realtors - ECPv6.15.16//NONSGML v1.0//EN
CALSCALE:GREGORIAN
METHOD:PUBLISH
X-WR-CALNAME:Durham Regional Assc of Realtors
X-ORIGINAL-URL:https://durhamrealtors.org
X-WR-CALDESC:Events for Durham Regional Assc of Realtors
REFRESH-INTERVAL;VALUE=DURATION:PT1H
X-Robots-Tag:noindex
X-PUBLISHED-TTL:PT1H
BEGIN:VTIMEZONE
TZID:America/New_York
BEGIN:DAYLIGHT
TZOFFSETFROM:-0500
TZOFFSETTO:-0400
TZNAME:EDT
DTSTART:20180311T070000
END:DAYLIGHT
BEGIN:STANDARD
TZOFFSETFROM:-0400
TZOFFSETTO:-0500
TZNAME:EST
DTSTART:20181104T060000
END:STANDARD
BEGIN:DAYLIGHT
TZOFFSETFROM:-0500
TZOFFSETTO:-0400
TZNAME:EDT
DTSTART:20190310T070000
END:DAYLIGHT
BEGIN:STANDARD
TZOFFSETFROM:-0400
TZOFFSETTO:-0500
TZNAME:EST
DTSTART:20191103T060000
END:STANDARD
BEGIN:DAYLIGHT
TZOFFSETFROM:-0500
TZOFFSETTO:-0400
TZNAME:EDT
DTSTART:20200308T070000
END:DAYLIGHT
BEGIN:STANDARD
TZOFFSETFROM:-0400
TZOFFSETTO:-0500
TZNAME:EST
DTSTART:20201101T060000
END:STANDARD
BEGIN:DAYLIGHT
TZOFFSETFROM:-0500
TZOFFSETTO:-0400
TZNAME:EDT
DTSTART:20210314T070000
END:DAYLIGHT
BEGIN:STANDARD
TZOFFSETFROM:-0400
TZOFFSETTO:-0500
TZNAME:EST
DTSTART:20211107T060000
END:STANDARD
END:VTIMEZONE
BEGIN:VEVENT
DTSTART;TZID=America/New_York:20200307T100000
DTEND;TZID=America/New_York:20200307T170000
DTSTAMP:20260424T030552
CREATED:20200205T190151Z
LAST-MODIFIED:20200205T190151Z
UID:9526-1583575200-1583600400@durhamrealtors.org
SUMMARY:2020 Annual Home Show
DESCRIPTION:  \n  \n 
URL:https://durhamrealtors.org/event/2020-annual-home-show/
LOCATION:The Streets at Southpoint\, 6910 Fayetteville Road \, Durham\, NC\, 27713
GEO:35.9034513;-78.9431065
X-APPLE-STRUCTURED-LOCATION;VALUE=URI;X-ADDRESS=The Streets at Southpoint 6910 Fayetteville Road  Durham NC 27713;X-APPLE-RADIUS=500;X-TITLE=6910 Fayetteville Road:geo:-78.9431065,35.9034513
END:VEVENT
BEGIN:VEVENT
DTSTART;TZID=America/New_York:20190302T100000
DTEND;TZID=America/New_York:20190302T170000
DTSTAMP:20260424T030552
CREATED:20181206T150936Z
LAST-MODIFIED:20181206T150936Z
UID:9371-1551520800-1551546000@durhamrealtors.org
SUMMARY:26th Annual Home Show
DESCRIPTION:
URL:https://durhamrealtors.org/event/26th-annual-home-show/
LOCATION:The Streets at Southpoint\, 6910 Fayetteville Road \, Durham\, NC\, 27713
GEO:35.9034513;-78.9431065
X-APPLE-STRUCTURED-LOCATION;VALUE=URI;X-ADDRESS=The Streets at Southpoint 6910 Fayetteville Road  Durham NC 27713;X-APPLE-RADIUS=500;X-TITLE=6910 Fayetteville Road:geo:-78.9431065,35.9034513
END:VEVENT
END:VCALENDAR