BEGIN:VCALENDAR
VERSION:2.0
PRODID:-//Durham Regional Assc of Realtors - ECPv6.15.16//NONSGML v1.0//EN
CALSCALE:GREGORIAN
METHOD:PUBLISH
X-WR-CALNAME:Durham Regional Assc of Realtors
X-ORIGINAL-URL:https://durhamrealtors.org
X-WR-CALDESC:Events for Durham Regional Assc of Realtors
REFRESH-INTERVAL;VALUE=DURATION:PT1H
X-Robots-Tag:noindex
X-PUBLISHED-TTL:PT1H
BEGIN:VTIMEZONE
TZID:America/New_York
BEGIN:DAYLIGHT
TZOFFSETFROM:-0500
TZOFFSETTO:-0400
TZNAME:EDT
DTSTART:20220313T070000
END:DAYLIGHT
BEGIN:STANDARD
TZOFFSETFROM:-0400
TZOFFSETTO:-0500
TZNAME:EST
DTSTART:20221106T060000
END:STANDARD
BEGIN:DAYLIGHT
TZOFFSETFROM:-0500
TZOFFSETTO:-0400
TZNAME:EDT
DTSTART:20230312T070000
END:DAYLIGHT
BEGIN:STANDARD
TZOFFSETFROM:-0400
TZOFFSETTO:-0500
TZNAME:EST
DTSTART:20231105T060000
END:STANDARD
BEGIN:DAYLIGHT
TZOFFSETFROM:-0500
TZOFFSETTO:-0400
TZNAME:EDT
DTSTART:20240310T070000
END:DAYLIGHT
BEGIN:STANDARD
TZOFFSETFROM:-0400
TZOFFSETTO:-0500
TZNAME:EST
DTSTART:20241103T060000
END:STANDARD
END:VTIMEZONE
BEGIN:VTIMEZONE
TZID:America/New_York
BEGIN:DAYLIGHT
TZOFFSETFROM:-0500
TZOFFSETTO:-0400
TZNAME:EDT
DTSTART:20170312T070000
END:DAYLIGHT
BEGIN:STANDARD
TZOFFSETFROM:-0400
TZOFFSETTO:-0500
TZNAME:EST
DTSTART:20171105T060000
END:STANDARD
BEGIN:DAYLIGHT
TZOFFSETFROM:-0500
TZOFFSETTO:-0400
TZNAME:EDT
DTSTART:20180311T070000
END:DAYLIGHT
BEGIN:STANDARD
TZOFFSETFROM:-0400
TZOFFSETTO:-0500
TZNAME:EST
DTSTART:20181104T060000
END:STANDARD
BEGIN:DAYLIGHT
TZOFFSETFROM:-0500
TZOFFSETTO:-0400
TZNAME:EDT
DTSTART:20190310T070000
END:DAYLIGHT
BEGIN:STANDARD
TZOFFSETFROM:-0400
TZOFFSETTO:-0500
TZNAME:EST
DTSTART:20191103T060000
END:STANDARD
END:VTIMEZONE
BEGIN:VEVENT
DTSTART;VALUE=DATE:20231127
DTEND;VALUE=DATE:20231130
DTSTAMP:20260424T041331
CREATED:20231013T122253Z
LAST-MODIFIED:20231013T122253Z
UID:13091-1701043200-1701302399@durhamrealtors.org
SUMMARY:TMLS System Rollout
DESCRIPTION:
URL:https://durhamrealtors.org/event/tmls-system-rollout/
LOCATION:Triangle Multiple Listing Service\, 111 Realtors Way\, Cary\, NC\, 27513\, United States
ORGANIZER;CN="Triangle Multiple Listing Service":MAILTO:RachelW@TriangleMLS.com
END:VEVENT
BEGIN:VEVENT
DTSTART;TZID=America/New_York:20230213T150000
DTEND;TZID=America/New_York:20230213T160000
DTSTAMP:20260424T041331
CREATED:20230208T150721Z
LAST-MODIFIED:20230208T151224Z
UID:12206-1676300400-1676304000@durhamrealtors.org
SUMMARY:TMLS: Rental Beast!
DESCRIPTION:
URL:https://durhamrealtors.org/event/tmls-rental-beast-2/
LOCATION:Triangle Multiple Listing Service\, 111 Realtors Way\, Cary\, NC\, 27513\, United States
END:VEVENT
BEGIN:VEVENT
DTSTART;TZID=America/New_York:20230213T130000
DTEND;TZID=America/New_York:20230213T140000
DTSTAMP:20260424T041331
CREATED:20230208T150631Z
LAST-MODIFIED:20230208T151254Z
UID:12203-1676293200-1676296800@durhamrealtors.org
SUMMARY:TMLS: Rental Beast!
DESCRIPTION:
URL:https://durhamrealtors.org/event/tmls-rental-beast/
LOCATION:Triangle Multiple Listing Service\, 111 Realtors Way\, Cary\, NC\, 27513\, United States
END:VEVENT
BEGIN:VEVENT
DTSTART;TZID=America/New_York:20181025T090000
DTEND;TZID=America/New_York:20181025T160000
DTSTAMP:20260424T041331
CREATED:20180913T154438Z
LAST-MODIFIED:20180913T154438Z
UID:9350-1540458000-1540483200@durhamrealtors.org
SUMMARY:TMLS Tech Fair 2018
DESCRIPTION:
URL:https://durhamrealtors.org/event/tmls-tech-fair-2018/
LOCATION:Triangle Multiple Listing Service\, 111 Realtors Way\, Cary\, NC\, 27513\, United States
ORGANIZER;CN="Triangle Multiple Listing Service":MAILTO:RachelW@TriangleMLS.com
END:VEVENT
END:VCALENDAR