BEGIN:VCALENDAR
VERSION:2.0
PRODID:-//Durham Regional Assc of Realtors - ECPv6.15.16//NONSGML v1.0//EN
CALSCALE:GREGORIAN
METHOD:PUBLISH
X-ORIGINAL-URL:https://durhamrealtors.org
X-WR-CALDESC:Events for Durham Regional Assc of Realtors
REFRESH-INTERVAL;VALUE=DURATION:PT1H
X-Robots-Tag:noindex
X-PUBLISHED-TTL:PT1H
BEGIN:VTIMEZONE
TZID:America/New_York
BEGIN:DAYLIGHT
TZOFFSETFROM:-0500
TZOFFSETTO:-0400
TZNAME:EDT
DTSTART:20200308T070000
END:DAYLIGHT
BEGIN:STANDARD
TZOFFSETFROM:-0400
TZOFFSETTO:-0500
TZNAME:EST
DTSTART:20201101T060000
END:STANDARD
BEGIN:DAYLIGHT
TZOFFSETFROM:-0500
TZOFFSETTO:-0400
TZNAME:EDT
DTSTART:20210314T070000
END:DAYLIGHT
BEGIN:STANDARD
TZOFFSETFROM:-0400
TZOFFSETTO:-0500
TZNAME:EST
DTSTART:20211107T060000
END:STANDARD
BEGIN:DAYLIGHT
TZOFFSETFROM:-0500
TZOFFSETTO:-0400
TZNAME:EDT
DTSTART:20220313T070000
END:DAYLIGHT
BEGIN:STANDARD
TZOFFSETFROM:-0400
TZOFFSETTO:-0500
TZNAME:EST
DTSTART:20221106T060000
END:STANDARD
END:VTIMEZONE
BEGIN:VEVENT
DTSTART;TZID=America/New_York:20211008T120000
DTEND;TZID=America/New_York:20211008T170000
DTSTAMP:20260424T025939
CREATED:20210927T141039Z
LAST-MODIFIED:20210927T141039Z
UID:10295-1633694400-1633712400@durhamrealtors.org
SUMMARY:Triangle Parade of Homes
DESCRIPTION:Due to many factors\, some homes may not be available for viewing.\nPlease check individual homes for availability BEFORE visiting.
URL:https://durhamrealtors.org/event/triangle-parade-of-homes-3/
LOCATION:Triangle NC\, NC\, United States
END:VEVENT
BEGIN:VEVENT
DTSTART;TZID=America/New_York:20211003T120000
DTEND;TZID=America/New_York:20211003T170000
DTSTAMP:20260424T025939
CREATED:20210927T140935Z
LAST-MODIFIED:20210927T140935Z
UID:10293-1633262400-1633280400@durhamrealtors.org
SUMMARY:Triangle Parade of Homes
DESCRIPTION:Due to many factors\, some homes may not be available for viewing.\nPlease check individual homes for availability BEFORE visiting.
URL:https://durhamrealtors.org/event/triangle-parade-of-homes-2/
LOCATION:Triangle NC\, NC\, United States
END:VEVENT
BEGIN:VEVENT
DTSTART;TZID=America/New_York:20211002T120000
DTEND;TZID=America/New_York:20211002T170000
DTSTAMP:20260424T025939
CREATED:20210927T140532Z
LAST-MODIFIED:20210927T140532Z
UID:10289-1633176000-1633194000@durhamrealtors.org
SUMMARY:Triangle Parade of Homes
DESCRIPTION:Due to many factors\, some homes may not be available for viewing.\nPlease check individual homes for availability BEFORE visiting.
URL:https://durhamrealtors.org/event/triangle-parade-of-homes/
LOCATION:Triangle NC\, NC\, United States
END:VEVENT
END:VCALENDAR