BEGIN:VCALENDAR
VERSION:2.0
PRODID:-//Durham Regional Assc of Realtors - ECPv6.15.16//NONSGML v1.0//EN
CALSCALE:GREGORIAN
METHOD:PUBLISH
X-ORIGINAL-URL:https://durhamrealtors.org
X-WR-CALDESC:Events for Durham Regional Assc of Realtors
REFRESH-INTERVAL;VALUE=DURATION:PT1H
X-Robots-Tag:noindex
X-PUBLISHED-TTL:PT1H
BEGIN:VTIMEZONE
TZID:America/New_York
BEGIN:DAYLIGHT
TZOFFSETFROM:-0500
TZOFFSETTO:-0400
TZNAME:EDT
DTSTART:20170312T070000
END:DAYLIGHT
BEGIN:STANDARD
TZOFFSETFROM:-0400
TZOFFSETTO:-0500
TZNAME:EST
DTSTART:20171105T060000
END:STANDARD
BEGIN:DAYLIGHT
TZOFFSETFROM:-0500
TZOFFSETTO:-0400
TZNAME:EDT
DTSTART:20180311T070000
END:DAYLIGHT
BEGIN:STANDARD
TZOFFSETFROM:-0400
TZOFFSETTO:-0500
TZNAME:EST
DTSTART:20181104T060000
END:STANDARD
BEGIN:DAYLIGHT
TZOFFSETFROM:-0500
TZOFFSETTO:-0400
TZNAME:EDT
DTSTART:20190310T070000
END:DAYLIGHT
BEGIN:STANDARD
TZOFFSETFROM:-0400
TZOFFSETTO:-0500
TZNAME:EST
DTSTART:20191103T060000
END:STANDARD
END:VTIMEZONE
BEGIN:VEVENT
DTSTART;TZID=America/New_York:20180329T180000
DTEND;TZID=America/New_York:20180329T200000
DTSTAMP:20260424T125242
CREATED:20180302T190724Z
LAST-MODIFIED:20180302T190724Z
UID:9310-1522346400-1522353600@durhamrealtors.org
SUMMARY:DRAR Young Professional Network Meet & Greet
DESCRIPTION:Click Here to Register
URL:https://durhamrealtors.org/event/drar-young-professional-network-meet-greet/
LOCATION:Carolina Ale House\, 3911 Durham Chapel Hill Blvd\, Durham\, NC\, 27707\, United States
GEO:35.7595731;-79.0192997
X-APPLE-STRUCTURED-LOCATION;VALUE=URI;X-ADDRESS=Carolina Ale House 3911 Durham Chapel Hill Blvd Durham NC 27707 United States;X-APPLE-RADIUS=500;X-TITLE=3911 Durham Chapel Hill Blvd:geo:-79.0192997,35.7595731
END:VEVENT
END:VCALENDAR