BEGIN:VCALENDAR
VERSION:2.0
PRODID:-//Durham Regional Assc of Realtors - ECPv6.15.16//NONSGML v1.0//EN
CALSCALE:GREGORIAN
METHOD:PUBLISH
X-ORIGINAL-URL:https://durhamrealtors.org
X-WR-CALDESC:Events for Durham Regional Assc of Realtors
REFRESH-INTERVAL;VALUE=DURATION:PT1H
X-Robots-Tag:noindex
X-PUBLISHED-TTL:PT1H
BEGIN:VTIMEZONE
TZID:America/New_York
BEGIN:DAYLIGHT
TZOFFSETFROM:-0500
TZOFFSETTO:-0400
TZNAME:EDT
DTSTART:20210314T070000
END:DAYLIGHT
BEGIN:STANDARD
TZOFFSETFROM:-0400
TZOFFSETTO:-0500
TZNAME:EST
DTSTART:20211107T060000
END:STANDARD
BEGIN:DAYLIGHT
TZOFFSETFROM:-0500
TZOFFSETTO:-0400
TZNAME:EDT
DTSTART:20220313T070000
END:DAYLIGHT
BEGIN:STANDARD
TZOFFSETFROM:-0400
TZOFFSETTO:-0500
TZNAME:EST
DTSTART:20221106T060000
END:STANDARD
BEGIN:DAYLIGHT
TZOFFSETFROM:-0500
TZOFFSETTO:-0400
TZNAME:EDT
DTSTART:20230312T070000
END:DAYLIGHT
BEGIN:STANDARD
TZOFFSETFROM:-0400
TZOFFSETTO:-0500
TZNAME:EST
DTSTART:20231105T060000
END:STANDARD
END:VTIMEZONE
BEGIN:VTIMEZONE
TZID:America/New_York
BEGIN:DAYLIGHT
TZOFFSETFROM:-0500
TZOFFSETTO:-0400
TZNAME:EDT
DTSTART:20180311T070000
END:DAYLIGHT
BEGIN:STANDARD
TZOFFSETFROM:-0400
TZOFFSETTO:-0500
TZNAME:EST
DTSTART:20181104T060000
END:STANDARD
BEGIN:DAYLIGHT
TZOFFSETFROM:-0500
TZOFFSETTO:-0400
TZNAME:EDT
DTSTART:20190310T070000
END:DAYLIGHT
BEGIN:STANDARD
TZOFFSETFROM:-0400
TZOFFSETTO:-0500
TZNAME:EST
DTSTART:20191103T060000
END:STANDARD
BEGIN:DAYLIGHT
TZOFFSETFROM:-0500
TZOFFSETTO:-0400
TZNAME:EDT
DTSTART:20200308T070000
END:DAYLIGHT
BEGIN:STANDARD
TZOFFSETFROM:-0400
TZOFFSETTO:-0500
TZNAME:EST
DTSTART:20201101T060000
END:STANDARD
END:VTIMEZONE
BEGIN:VEVENT
DTSTART;TZID=America/New_York:20221108T063000
DTEND;TZID=America/New_York:20221108T193000
DTSTAMP:20260424T065911
CREATED:20221108T113000Z
LAST-MODIFIED:20221010T121654Z
UID:11645-1667889000-1667935800@durhamrealtors.org
SUMMARY:ELECTION DAY
DESCRIPTION:CLICK HERE
URL:https://durhamrealtors.org/event/election-day/
LOCATION:Unnamed Venue\, NC\, United States
END:VEVENT
BEGIN:VEVENT
DTSTART;TZID=America/New_York:20220610T083000
DTEND;TZID=America/New_York:20220610T153000
DTSTAMP:20260424T065911
CREATED:20220610T123000Z
LAST-MODIFIED:20220513T102430Z
UID:11250-1654849800-1654875000@durhamrealtors.org
SUMMARY:Habitat for Humanity with Chris Holt
DESCRIPTION:REGISTER
URL:https://durhamrealtors.org/event/habitat-for-humanity-with-chris-holt/
LOCATION:Unnamed Venue\, NC\, United States
END:VEVENT
BEGIN:VEVENT
DTSTART;TZID=America/New_York:20190221T110000
DTEND;TZID=America/New_York:20190221T140000
DTSTAMP:20260424T065911
CREATED:20190114T155823Z
LAST-MODIFIED:20190114T155823Z
UID:9379-1550746800-1550757600@durhamrealtors.org
SUMMARY:Membership Luncheon
DESCRIPTION:Membership Luncheon\nGrand Opening\nCimarron Homes at The Meadows in Creedmoor\nMore Info…Creedmoor Luncheon Flyer\nFebruary 21\, 11am- 2pm\nLunch catered by The Pitt\nChicken\, three sides\, banana pudding\, tea\, hush puppies and biscuits\nDoor Prizes: Yeti Cooler & Gift Cards\nREGISTER HERE \nSponsored by: Julia Woods\, Caliber Home Loans\nWallace Peiffer\, ColdWell Banker Advantage\nOnly 25 minutes from Durham\n 
URL:https://durhamrealtors.org/event/membership-luncheon/
LOCATION:Unnamed Venue\, NC\, United States
END:VEVENT
END:VCALENDAR