BEGIN:VCALENDAR
VERSION:2.0
PRODID:-//Durham Regional Assc of Realtors - ECPv6.15.16//NONSGML v1.0//EN
CALSCALE:GREGORIAN
METHOD:PUBLISH
X-WR-CALNAME:Durham Regional Assc of Realtors
X-ORIGINAL-URL:https://durhamrealtors.org
X-WR-CALDESC:Events for Durham Regional Assc of Realtors
REFRESH-INTERVAL;VALUE=DURATION:PT1H
X-Robots-Tag:noindex
X-PUBLISHED-TTL:PT1H
BEGIN:VTIMEZONE
TZID:America/New_York
BEGIN:DAYLIGHT
TZOFFSETFROM:-0500
TZOFFSETTO:-0400
TZNAME:EDT
DTSTART:20210314T070000
END:DAYLIGHT
BEGIN:STANDARD
TZOFFSETFROM:-0400
TZOFFSETTO:-0500
TZNAME:EST
DTSTART:20211107T060000
END:STANDARD
BEGIN:DAYLIGHT
TZOFFSETFROM:-0500
TZOFFSETTO:-0400
TZNAME:EDT
DTSTART:20220313T070000
END:DAYLIGHT
BEGIN:STANDARD
TZOFFSETFROM:-0400
TZOFFSETTO:-0500
TZNAME:EST
DTSTART:20221106T060000
END:STANDARD
BEGIN:DAYLIGHT
TZOFFSETFROM:-0500
TZOFFSETTO:-0400
TZNAME:EDT
DTSTART:20230312T070000
END:DAYLIGHT
BEGIN:STANDARD
TZOFFSETFROM:-0400
TZOFFSETTO:-0500
TZNAME:EST
DTSTART:20231105T060000
END:STANDARD
BEGIN:DAYLIGHT
TZOFFSETFROM:-0500
TZOFFSETTO:-0400
TZNAME:EDT
DTSTART:20240310T070000
END:DAYLIGHT
BEGIN:STANDARD
TZOFFSETFROM:-0400
TZOFFSETTO:-0500
TZNAME:EST
DTSTART:20241103T060000
END:STANDARD
BEGIN:DAYLIGHT
TZOFFSETFROM:-0500
TZOFFSETTO:-0400
TZNAME:EDT
DTSTART:20250309T070000
END:DAYLIGHT
BEGIN:STANDARD
TZOFFSETFROM:-0400
TZOFFSETTO:-0500
TZNAME:EST
DTSTART:20251102T060000
END:STANDARD
END:VTIMEZONE
BEGIN:VTIMEZONE
TZID:America/New_York
BEGIN:DAYLIGHT
TZOFFSETFROM:-0500
TZOFFSETTO:-0400
TZNAME:EDT
DTSTART:20180311T070000
END:DAYLIGHT
BEGIN:STANDARD
TZOFFSETFROM:-0400
TZOFFSETTO:-0500
TZNAME:EST
DTSTART:20181104T060000
END:STANDARD
BEGIN:DAYLIGHT
TZOFFSETFROM:-0500
TZOFFSETTO:-0400
TZNAME:EDT
DTSTART:20190310T070000
END:DAYLIGHT
BEGIN:STANDARD
TZOFFSETFROM:-0400
TZOFFSETTO:-0500
TZNAME:EST
DTSTART:20191103T060000
END:STANDARD
BEGIN:DAYLIGHT
TZOFFSETFROM:-0500
TZOFFSETTO:-0400
TZNAME:EDT
DTSTART:20200308T070000
END:DAYLIGHT
BEGIN:STANDARD
TZOFFSETFROM:-0400
TZOFFSETTO:-0500
TZNAME:EST
DTSTART:20201101T060000
END:STANDARD
END:VTIMEZONE
BEGIN:VEVENT
DTSTART;TZID=America/New_York:20240208T150000
DTEND;TZID=America/New_York:20240208T170000
DTSTAMP:20260424T015145
CREATED:20231205T143420Z
LAST-MODIFIED:20231213T184840Z
UID:13254-1707404400-1707411600@durhamrealtors.org
SUMMARY:REALTOR EXPO
DESCRIPTION:REGISTER
URL:https://durhamrealtors.org/event/realtor-expo-2/
LOCATION:Washington Duke Inn & Golf Club\,  3001 Cameron Blvd\, Durham\, NC\, 27705\, United States
GEO:35.9933038;-78.9484094
X-APPLE-STRUCTURED-LOCATION;VALUE=URI;X-ADDRESS=Washington Duke Inn & Golf Club  3001 Cameron Blvd Durham NC 27705 United States;X-APPLE-RADIUS=500;X-TITLE=3001 Cameron Blvd:geo:-78.9484094,35.9933038
END:VEVENT
BEGIN:VEVENT
DTSTART;TZID=America/New_York:20240125T080000
DTEND;TZID=America/New_York:20240125T100000
DTSTAMP:20260424T015145
CREATED:20231221T155047Z
LAST-MODIFIED:20240117T153248Z
UID:13358-1706169600-1706176800@durhamrealtors.org
SUMMARY:DEI Committee Mtg with NCR @ Washington Duke Inn
DESCRIPTION:PLEASE RSVP to attend and reserve a seat.\nThis special meeting will be with NC REALTORS® DEI meeting at the Washington Duke Inn in Durham. \n—————————— \nPlease fill out the 2024 Committee Sign Up Form \nThe strength of the Durham Regional Association of REALTORS® is the involvement of its members. \nYour participation is welcomed and encouraged!
URL:https://durhamrealtors.org/event/diversityequityinclusion-committee-meeting/
LOCATION:Washington Duke Inn & Golf Club\,  3001 Cameron Blvd\, Durham\, NC\, 27705\, United States
GEO:35.9933038;-78.9484094
X-APPLE-STRUCTURED-LOCATION;VALUE=URI;X-ADDRESS=Washington Duke Inn & Golf Club  3001 Cameron Blvd Durham NC 27705 United States;X-APPLE-RADIUS=500;X-TITLE=3001 Cameron Blvd:geo:-78.9484094,35.9933038
END:VEVENT
BEGIN:VEVENT
DTSTART;VALUE=DATE:20240122
DTEND;VALUE=DATE:20240127
DTSTAMP:20260424T015145
CREATED:20240111T152953Z
LAST-MODIFIED:20240111T152953Z
UID:13497-1705881600-1706313599@durhamrealtors.org
SUMMARY:NCR Vision Quest
DESCRIPTION:
URL:https://durhamrealtors.org/event/ncr-vision-quest/
LOCATION:Washington Duke Inn & Golf Club\,  3001 Cameron Blvd\, Durham\, NC\, 27705\, United States
GEO:35.9933038;-78.9484094
X-APPLE-STRUCTURED-LOCATION;VALUE=URI;X-ADDRESS=Washington Duke Inn & Golf Club  3001 Cameron Blvd Durham NC 27705 United States;X-APPLE-RADIUS=500;X-TITLE=3001 Cameron Blvd:geo:-78.9484094,35.9933038
END:VEVENT
BEGIN:VEVENT
DTSTART;TZID=America/New_York:20231127T111500
DTEND;TZID=America/New_York:20231127T133000
DTSTAMP:20260424T015145
CREATED:20230519T114445Z
LAST-MODIFIED:20231109T201612Z
UID:12637-1701083700-1701091800@durhamrealtors.org
SUMMARY:Membership Holiday Luncheon WAITLIST ONLY
DESCRIPTION:This event is AT CAPACITY. To be placed on the waitlist email Services@DurhamRealtors.org \nInstallation of 2024 Officers & Directors\nAnnual fundraising food & coat drive\nGuest Speaker:  Lawrence Yun\, Chief Economist & SVP at NAR to share 2024 real estate forecast
URL:https://durhamrealtors.org/event/membership-holiday-luncheon-2/
LOCATION:Washington Duke Inn & Golf Club\,  3001 Cameron Blvd\, Durham\, NC\, 27705\, United States
GEO:35.9933038;-78.9484094
X-APPLE-STRUCTURED-LOCATION;VALUE=URI;X-ADDRESS=Washington Duke Inn & Golf Club  3001 Cameron Blvd Durham NC 27705 United States;X-APPLE-RADIUS=500;X-TITLE=3001 Cameron Blvd:geo:-78.9484094,35.9933038
END:VEVENT
BEGIN:VEVENT
DTSTART;TZID=America/New_York:20221117T111500
DTEND;TZID=America/New_York:20221117T133000
DTSTAMP:20260424T015145
CREATED:20221117T163000Z
LAST-MODIFIED:20221031T163227Z
UID:11540-1668683700-1668691800@durhamrealtors.org
SUMMARY:Membership Holiday Luncheon
DESCRIPTION:REGISTER \n11:15 AM – Buffet opens \n12:00 PM – Program begins \n\nOfficial installation of the 2023 Officers and Directors\nPresentation of Auction proceeds\nCoat Drive & Food Drive for DPS students\n\n 
URL:https://durhamrealtors.org/event/membership-holiday-luncheon/
LOCATION:Washington Duke Inn & Golf Club\,  3001 Cameron Blvd\, Durham\, NC\, 27705\, United States
GEO:35.9933038;-78.9484094
X-APPLE-STRUCTURED-LOCATION;VALUE=URI;X-ADDRESS=Washington Duke Inn & Golf Club  3001 Cameron Blvd Durham NC 27705 United States;X-APPLE-RADIUS=500;X-TITLE=3001 Cameron Blvd:geo:-78.9484094,35.9933038
END:VEVENT
BEGIN:VEVENT
DTSTART;TZID=America/New_York:20220822T111500
DTEND;TZID=America/New_York:20220822T133000
DTSTAMP:20260424T015145
CREATED:20220822T153000Z
LAST-MODIFIED:20220730T115617Z
UID:11358-1661166900-1661175000@durhamrealtors.org
SUMMARY:Fill the Bus! | Luncheon with Mayor O'Neal
DESCRIPTION:REGISTER \nMembers FREE\, Guests $35 (max 2 guests) \n11:15am-12:30pm FILL THE BUS!\nThe DPS school bus will be parked on the left side of the President Parking Lot. Drop your school supplies on the bus and enter the Inn to the President’s Dining Room for a delicious lunch. \nLuncheon Buffet Menu: Creamy Italian Tomato Soup | Caesar Salad\, Fresh Fruit | Roasted Beef Medallions\, chimichurri | Chicken Piccata\, lemon caper beurre blanc | Baked Ziti\, spinach\, mushrooms\, mozzarella | Sauteed Kale\, Roasted Peppers\, Fried Garlic | Chef’s Choice Dessert \nPresentations: \n\nGuest Speaker: Elaine O’Neal\, Mayor of Durham\nSlate of 2023 Officers & Directors\nBylaws Changes\n\nWe look forward to seeing you. After you register\, if you need to cancel your reservation\, please do so by August 18th to avoid getting charged the no-show fee of $35.
URL:https://durhamrealtors.org/event/membership-luncheon-2/
LOCATION:Washington Duke Inn & Golf Club\,  3001 Cameron Blvd\, Durham\, NC\, 27705\, United States
GEO:35.9933038;-78.9484094
X-APPLE-STRUCTURED-LOCATION;VALUE=URI;X-ADDRESS=Washington Duke Inn & Golf Club  3001 Cameron Blvd Durham NC 27705 United States;X-APPLE-RADIUS=500;X-TITLE=3001 Cameron Blvd:geo:-78.9484094,35.9933038
END:VEVENT
BEGIN:VEVENT
DTSTART;TZID=America/New_York:20190411T113000
DTEND;TZID=America/New_York:20190411T140000
DTSTAMP:20260424T015145
CREATED:20190307T162154Z
LAST-MODIFIED:20190307T162154Z
UID:9402-1554982200-1554991200@durhamrealtors.org
SUMMARY:New Neighborhood Expo for Triangle REALTORS®
DESCRIPTION:Enjoy a delicious lunch and learn about all the new home communities in the area. RSVP required. Email Services@DurhamRealtors.org
URL:https://durhamrealtors.org/event/new-neighborhood-expo-for-triangle-realtors/
LOCATION:Washington Duke Inn & Golf Club\,  3001 Cameron Blvd\, Durham\, NC\, 27705\, United States
GEO:35.9933038;-78.9484094
X-APPLE-STRUCTURED-LOCATION;VALUE=URI;X-ADDRESS=Washington Duke Inn & Golf Club  3001 Cameron Blvd Durham NC 27705 United States;X-APPLE-RADIUS=500;X-TITLE=3001 Cameron Blvd:geo:-78.9484094,35.9933038
END:VEVENT
END:VCALENDAR