BEGIN:VCALENDAR
VERSION:2.0
PRODID:-//Durham Regional Assc of Realtors - ECPv6.15.16//NONSGML v1.0//EN
CALSCALE:GREGORIAN
METHOD:PUBLISH
X-WR-CALNAME:Durham Regional Assc of Realtors
X-ORIGINAL-URL:https://durhamrealtors.org
X-WR-CALDESC:Events for Durham Regional Assc of Realtors
REFRESH-INTERVAL;VALUE=DURATION:PT1H
X-Robots-Tag:noindex
X-PUBLISHED-TTL:PT1H
BEGIN:VTIMEZONE
TZID:America/New_York
BEGIN:DAYLIGHT
TZOFFSETFROM:-0500
TZOFFSETTO:-0400
TZNAME:EDT
DTSTART:20200308T070000
END:DAYLIGHT
BEGIN:STANDARD
TZOFFSETFROM:-0400
TZOFFSETTO:-0500
TZNAME:EST
DTSTART:20201101T060000
END:STANDARD
BEGIN:DAYLIGHT
TZOFFSETFROM:-0500
TZOFFSETTO:-0400
TZNAME:EDT
DTSTART:20210314T070000
END:DAYLIGHT
BEGIN:STANDARD
TZOFFSETFROM:-0400
TZOFFSETTO:-0500
TZNAME:EST
DTSTART:20211107T060000
END:STANDARD
BEGIN:DAYLIGHT
TZOFFSETFROM:-0500
TZOFFSETTO:-0400
TZNAME:EDT
DTSTART:20220313T070000
END:DAYLIGHT
BEGIN:STANDARD
TZOFFSETFROM:-0400
TZOFFSETTO:-0500
TZNAME:EST
DTSTART:20221106T060000
END:STANDARD
END:VTIMEZONE
BEGIN:VEVENT
DTSTART;TZID=America/New_York:20210504T133000
DTEND;TZID=America/New_York:20210504T173000
DTSTAMP:20260424T151529
CREATED:20210316T162728Z
LAST-MODIFIED:20210316T162728Z
UID:9667-1620135000-1620149400@durhamrealtors.org
SUMMARY:#5821 WebEx: Synchronous Broker-in-Charge Update (BICUP)
DESCRIPTION:BILL GALLAGHER IS BACK!  With over three decades of real estate industry experience\, there’s hardly a law\, issue\, or definition Bill doesn’t know. “Laugh and Learn” in this course: \n#5821 Synchronous Broker-in-Charge Update (BICUP) \nThe 2020-2021 Broker-in-Charge Update is a four (4) hour course that must be completed by all brokers-in-charge and brokers who have BIC-Eligible status and who wish to renew their licenses on active status on July 1\, 2021\, for the 2021-2022 license year. The topics covered in this year’s course are as follows: Fair Housing\, Contracts\, Cybersecurity\, Provisional Brokers on a Team\, Law and Rule Updates and Licensing and Education. \nREGISTER
URL:https://durhamrealtors.org/event/5821-zoom-synchronous-broker-in-charge-update-bicup/
LOCATION:WebEx
END:VEVENT
BEGIN:VEVENT
DTSTART;TZID=America/New_York:20210504T083000
DTEND;TZID=America/New_York:20210504T123000
DTSTAMP:20260424T151529
CREATED:20210316T161942Z
LAST-MODIFIED:20210316T161942Z
UID:9666-1620117000-1620131400@durhamrealtors.org
SUMMARY:#3864 WebEx: Synchronous Ethics in the Age of Disruption
DESCRIPTION:BILL GALLAGHER IS BACK!  With over three decades of real estate industry experience\, there’s hardly a law\, issue\, or definition Bill doesn’t know. “Laugh and Learn” in this course: \n#3864 Synchronous Ethics in the Age of Disruption \nIn this Age of Disruption where there are so many challenges to the professionalism of real estate licensees\, our only hope as a profession rests on how well we fulfill fiduciary duties\, our adherence to the REALTOR® Code of Ethics and the elevation of professionalism. This course was written to place the REALTOR® Code of Ethics in a contemporary light and to empower agents to use the Code in order to battle the current challenges they face. Will meet NAR COE requirement and 4 hours of CE elective credit. \nREGISTER
URL:https://durhamrealtors.org/event/3864-zoom-synchronous-ethics-in-the-age-of-disruption-2/
LOCATION:WebEx
END:VEVENT
END:VCALENDAR