BEGIN:VCALENDAR
VERSION:2.0
PRODID:-//Durham Regional Assc of Realtors - ECPv6.15.16//NONSGML v1.0//EN
CALSCALE:GREGORIAN
METHOD:PUBLISH
X-WR-CALNAME:Durham Regional Assc of Realtors
X-ORIGINAL-URL:https://durhamrealtors.org
X-WR-CALDESC:Events for Durham Regional Assc of Realtors
REFRESH-INTERVAL;VALUE=DURATION:PT1H
X-Robots-Tag:noindex
X-PUBLISHED-TTL:PT1H
BEGIN:VTIMEZONE
TZID:America/New_York
BEGIN:DAYLIGHT
TZOFFSETFROM:-0500
TZOFFSETTO:-0400
TZNAME:EDT
DTSTART:20190310T070000
END:DAYLIGHT
BEGIN:STANDARD
TZOFFSETFROM:-0400
TZOFFSETTO:-0500
TZNAME:EST
DTSTART:20191103T060000
END:STANDARD
BEGIN:DAYLIGHT
TZOFFSETFROM:-0500
TZOFFSETTO:-0400
TZNAME:EDT
DTSTART:20200308T070000
END:DAYLIGHT
BEGIN:STANDARD
TZOFFSETFROM:-0400
TZOFFSETTO:-0500
TZNAME:EST
DTSTART:20201101T060000
END:STANDARD
BEGIN:DAYLIGHT
TZOFFSETFROM:-0500
TZOFFSETTO:-0400
TZNAME:EDT
DTSTART:20210314T070000
END:DAYLIGHT
BEGIN:STANDARD
TZOFFSETFROM:-0400
TZOFFSETTO:-0500
TZNAME:EST
DTSTART:20211107T060000
END:STANDARD
END:VTIMEZONE
BEGIN:VEVENT
DTSTART;TZID=America/New_York:20200422T133000
DTEND;TZID=America/New_York:20200422T173000
DTSTAMP:20260424T140018
CREATED:20200227T163156Z
LAST-MODIFIED:20200227T163156Z
UID:9543-1587562200-1587576600@durhamrealtors.org
SUMMARY:ZOOM Webinar:  #3516 Mel's Real Estate Countdown (elective)
DESCRIPTION:Course will be delivered by ZOOM Webinar \nCLICK HERE to take this class REMOTELY \nSeveral days before class you will receive an email with a ZOOM Registration Form that MUST be completed prior to the start of the on-line course. On the day of class\, you will be able log-in to the class by clicking on the link provided in the reminder email. \nClass will start promptly at 8:30am so plan to join at least 15 minutes prior to start time to make sure you have no connection issues. \nTHE NCREC ATTENDANCE RULES APPLY – so if you try to join more than 20 minutes after the start of the class\, you will not receive CE credit for the course and will be asked to reschedule. \n_______________________________________________________________ \n#3516 Mel’s Real Estate Countdown \nSponsor #1471:  Brightpath Education \nClick Here to Register \nMel Black\nMel Black counts down some of the most requested real estate brokerage topics from a statewide survey. He presents well-researched and accurate information as well as guidance of how to make sure you are doing things the right way. Topics in this class include coming soon listings\, making and receiving referrals\, valuing upgrades and special property features\, working with an unrepresented buyer\, and square footage. Join us for this lively discussion that is sure to give you something to apply immediately in your real estate business. Approved by the NC Real Estate Commission for 4-hour of elective CE credit.
URL:https://durhamrealtors.org/event/3516-mels-real-estate-countdown-elective/
LOCATION:ZOOM Webinar\, NC\, United States
END:VEVENT
BEGIN:VEVENT
DTSTART;TZID=America/New_York:20200422T083000
DTEND;TZID=America/New_York:20200422T123000
DTSTAMP:20260424T140018
CREATED:20200227T162627Z
LAST-MODIFIED:20200227T162627Z
UID:9542-1587544200-1587558600@durhamrealtors.org
SUMMARY:ZOOM Webinar:  #8820 Broker in Charge Update Course
DESCRIPTION:Course will be delivered by ZOOM Webinar \nCLICK HERE to take this class REMOTELY \nSeveral days before class you will receive an email with a ZOOM Registration Form that MUST be completed prior to the start of the on-line course. On the day of class\, you will be able log-in to the class by clicking on the link provided in the reminder email. \nClass will start promptly at 8:30am so plan to join at least 15 minutes prior to start time to make sure you have no connection issues. \nTHE NCREC ATTENDANCE RULES APPLY – so if you try to join more than 20 minutes after the start of the class\, you will not receive CE credit for the course and will be asked to reschedule. \n_______________________________________ \nThe Broker-in-Charge Update (BICUP) is designated for BIC’s and BIC eligible brokers only! \nTopics include:\n1. Competence of Licensees\n2. Material Facts\n3. Property Inspections\n4. Wire Fraud\n5. Law and Rule Updates\n6. Licensing and Education\n7. BIC Duty of Supervision for WWREA Brochure\n8. Record Retention \n\n\n\n\nDurham Regional Association of REALTORS® is the North Carolina Real Estate Commission’s Sponsor #1596 \n 
URL:https://durhamrealtors.org/event/broker-in-charge-update-course/
LOCATION:ZOOM Webinar\, NC\, United States
END:VEVENT
BEGIN:VEVENT
DTSTART;TZID=America/New_York:20200401T133000
DTEND;TZID=America/New_York:20200401T173000
DTSTAMP:20260424T140018
CREATED:20200217T164729Z
LAST-MODIFIED:20200217T164729Z
UID:9539-1585747800-1585762200@durhamrealtors.org
SUMMARY:ZOOM Webinar: #3592 Ethics in the Age of Disruption
DESCRIPTION:Course will be delivered by ZOOM Webinar \nCLICK HERE to take this class REMOTELY \nSeveral days before class you will receive an email with a ZOOM Registration Form that MUST be completed prior to the start of the on-line course. On the day of class\, you will be able log-in to the class by clicking on the link provided in the reminder email. \nClass will start promptly at 8:30am so plan to join at least 15 minutes prior to start time to make sure you have no connection issues. \nTHE NCREC ATTENDANCE RULES APPLY – so if you try to join more than 20 minutes after the start of the class\, you will not receive CE credit for the course and will be asked to reschedule.
URL:https://durhamrealtors.org/event/3592-ethics-in-the-age-of-disruption-4/
LOCATION:ZOOM Webinar\, NC\, United States
END:VEVENT
BEGIN:VEVENT
DTSTART;TZID=America/New_York:20200401T083000
DTEND;TZID=America/New_York:20200401T123000
DTSTAMP:20260424T140018
CREATED:20200217T164538Z
LAST-MODIFIED:20200217T164538Z
UID:9538-1585729800-1585744200@durhamrealtors.org
SUMMARY:ZOOM Webinar: 2019-20 General Real Estate Update
DESCRIPTION:Course will be delivered by ZOOM Webinar \nCLICK HERE to take this class REMOTELY \nSeveral days before class you will receive an email with a ZOOM Registration Form that MUST be completed prior to the start of the on-line course. On the day of class\, you will be able log-in to the class by clicking on the link provided in the reminder email. \nClass will start promptly at 8:30am so plan to join at least 15 minutes prior to start time to make sure you have no connection issues. \nTHE NCREC ATTENDANCE RULES APPLY – so if you try to join more than 20 minutes after the start of the class\, you will not receive CE credit for the course and will be asked to reschedule.
URL:https://durhamrealtors.org/event/2019-20-general-real-estate-update/
LOCATION:ZOOM Webinar\, NC\, United States
END:VEVENT
BEGIN:VEVENT
DTSTART;TZID=America/New_York:20200325T150000
DTEND;TZID=America/New_York:20200325T163000
DTSTAMP:20260424T140018
CREATED:20200227T144543Z
LAST-MODIFIED:20200227T144543Z
UID:9541-1585148400-1585153800@durhamrealtors.org
SUMMARY:ZOOM Webinar: April 1st NAR Rule Changes-TMLS Policies
DESCRIPTION:Join Us REMOTELY\nWhat April 1st NAR Rule Changes Mean for You\nOn March 25 at 3:00pm\nCLICK HERE on your PC\, laptop or mobile phone.\nThe link will open to the meeting.\nIf you are asked to sign in…\nMeeting ID is 792 053 112 \nand the Password is 699559 \nTMLS April 1 Rule Changes\n\n\n\nAllan Nielsen\, VP MLS Systems\, will discuss changes and share critical information regarding:\n\nNAR’s Clear Cooperation Policy – What is it and why is it being implemented? \nNew Listing Entry Deadline – Why is TMLS changing the Listing Entry Deadline? \nNew Coming Soon Status – We handle Coming Soon today\, so why introducing a new status?
URL:https://durhamrealtors.org/event/bic-meeting-nar-rule-changes-impact-on-tmls-policies/
LOCATION:ZOOM Webinar\, NC\, United States
END:VEVENT
BEGIN:VEVENT
DTSTART;TZID=America/New_York:20200304T093000
DTEND;TZID=America/New_York:20200304T103000
DTSTAMP:20260424T140018
CREATED:20200214T192009Z
LAST-MODIFIED:20200214T192009Z
UID:9529-1583314200-1583317800@durhamrealtors.org
SUMMARY:Executive Committee Meeting
DESCRIPTION:
URL:https://durhamrealtors.org/event/executive-committee-meeting-4/2020-03-04/
LOCATION:ZOOM Webinar\, NC\, United States
END:VEVENT
END:VCALENDAR