BEGIN:VCALENDAR
VERSION:2.0
PRODID:-//Durham Regional Assc of Realtors - ECPv6.15.16//NONSGML v1.0//EN
CALSCALE:GREGORIAN
METHOD:PUBLISH
X-ORIGINAL-URL:https://durhamrealtors.org
X-WR-CALDESC:Events for Durham Regional Assc of Realtors
REFRESH-INTERVAL;VALUE=DURATION:PT1H
X-Robots-Tag:noindex
X-PUBLISHED-TTL:PT1H
BEGIN:VTIMEZONE
TZID:America/New_York
BEGIN:DAYLIGHT
TZOFFSETFROM:-0500
TZOFFSETTO:-0400
TZNAME:EDT
DTSTART:20210314T070000
END:DAYLIGHT
BEGIN:STANDARD
TZOFFSETFROM:-0400
TZOFFSETTO:-0500
TZNAME:EST
DTSTART:20211107T060000
END:STANDARD
BEGIN:DAYLIGHT
TZOFFSETFROM:-0500
TZOFFSETTO:-0400
TZNAME:EDT
DTSTART:20220313T070000
END:DAYLIGHT
BEGIN:STANDARD
TZOFFSETFROM:-0400
TZOFFSETTO:-0500
TZNAME:EST
DTSTART:20221106T060000
END:STANDARD
BEGIN:DAYLIGHT
TZOFFSETFROM:-0500
TZOFFSETTO:-0400
TZNAME:EDT
DTSTART:20230312T070000
END:DAYLIGHT
BEGIN:STANDARD
TZOFFSETFROM:-0400
TZOFFSETTO:-0500
TZNAME:EST
DTSTART:20231105T060000
END:STANDARD
BEGIN:DAYLIGHT
TZOFFSETFROM:-0500
TZOFFSETTO:-0400
TZNAME:EDT
DTSTART:20240310T070000
END:DAYLIGHT
BEGIN:STANDARD
TZOFFSETFROM:-0400
TZOFFSETTO:-0500
TZNAME:EST
DTSTART:20241103T060000
END:STANDARD
END:VTIMEZONE
BEGIN:VEVENT
DTSTART;TZID=America/New_York:20230216T183000
DTEND;TZID=America/New_York:20230216T200000
DTSTAMP:20260424T015132
CREATED:20230214T140151Z
LAST-MODIFIED:20230214T140235Z
UID:12249-1676572200-1676577600@durhamrealtors.org
SUMMARY:Durham Comprehensive Plan Zoom Mtg
DESCRIPTION:REGISTER \nFor information on the Comprehensive Plan and meeting dates CLICK HERE
URL:https://durhamrealtors.org/event/durham-comprehensive-plan/
LOCATION:ZOOM Webinar\, NC\, United States
END:VEVENT
BEGIN:VEVENT
DTSTART;TZID=America/New_York:20230209T130000
DTEND;TZID=America/New_York:20230209T140000
DTSTAMP:20260424T015132
CREATED:20230105T150603Z
LAST-MODIFIED:20230105T150603Z
UID:12037-1675947600-1675951200@durhamrealtors.org
SUMMARY:Free TMLS Chat: Open House Tips
DESCRIPTION:Learn about Paragon\, ShowingTime\, SentriLock and RPR \nREGISTER
URL:https://durhamrealtors.org/event/free-tmls-chat-open-house-tips/
LOCATION:ZOOM Webinar\, NC\, United States
ORGANIZER;CN="Triangle Multiple Listing Service":MAILTO:RachelW@TriangleMLS.com
END:VEVENT
BEGIN:VEVENT
DTSTART;TZID=America/New_York:20230126T130000
DTEND;TZID=America/New_York:20230126T140000
DTSTAMP:20260424T015132
CREATED:20230105T150422Z
LAST-MODIFIED:20230105T150631Z
UID:12035-1674738000-1674741600@durhamrealtors.org
SUMMARY:Free TMLS Chat: Did You Know?
DESCRIPTION:A review of what happened in 2022 and what is coming in 2023 \nREGISTER
URL:https://durhamrealtors.org/event/free-tmls-workshop-did-you-know-2/
LOCATION:ZOOM Webinar\, NC\, United States
ORGANIZER;CN="Triangle Multiple Listing Service":MAILTO:RachelW@TriangleMLS.com
END:VEVENT
BEGIN:VEVENT
DTSTART;TZID=America/New_York:20230126T100000
DTEND;TZID=America/New_York:20230126T110000
DTSTAMP:20260424T015132
CREATED:20230103T141930Z
LAST-MODIFIED:20230112T191817Z
UID:11953-1674727200-1674730800@durhamrealtors.org
SUMMARY:NO MEETING TODAY (MLK JR efforts) Diversity\, Equity\, & Inclusion (DEI) Meeting
DESCRIPTION:The DEI Committee meeting will not take place today\, as Committee members spent time donating blood to Red Cross and/or books to Book Harvest in honor of MLK Jr Day. \nInterested in attending? \nPlease fill out the 2023 Committee Signup Sheet and email it to:  Services@durhamrealtors.org \nThe strength of the Durham Regional Association of REALTORS® is the involvement of its members. \nYour participation is welcomed and encouraged!
URL:https://durhamrealtors.org/event/diversity-equity-inclusion-dei-meeting/
LOCATION:ZOOM Webinar\, NC\, United States
END:VEVENT
BEGIN:VEVENT
DTSTART;TZID=America/New_York:20230123T100000
DTEND;TZID=America/New_York:20230123T110000
DTSTAMP:20260424T015132
CREATED:20230105T150309Z
LAST-MODIFIED:20230105T150652Z
UID:12033-1674468000-1674471600@durhamrealtors.org
SUMMARY:Free TMLS Chat: Did You Know?
DESCRIPTION:A review of what happened in 2022 and what is coming in 2023 \nREGISTER
URL:https://durhamrealtors.org/event/free-tmls-workshop-did-you-know/
LOCATION:ZOOM Webinar\, NC\, United States
ORGANIZER;CN="Triangle Multiple Listing Service":MAILTO:RachelW@TriangleMLS.com
END:VEVENT
BEGIN:VEVENT
DTSTART;TZID=America/New_York:20221107T110000
DTEND;TZID=America/New_York:20221107T123000
DTSTAMP:20260424T015132
CREATED:20221105T105014Z
LAST-MODIFIED:20221105T105014Z
UID:11715-1667818800-1667824200@durhamrealtors.org
SUMMARY:Webinar:  Long Island Divided
DESCRIPTION:REGISTER
URL:https://durhamrealtors.org/event/webinar-long-island-divided/
LOCATION:ZOOM Webinar\, NC\, United States
END:VEVENT
BEGIN:VEVENT
DTSTART;TZID=America/New_York:20221026T133000
DTEND;TZID=America/New_York:20221026T173000
DTSTAMP:20260424T015132
CREATED:20221026T173000Z
LAST-MODIFIED:20220923T143933Z
UID:11612-1666791000-1666805400@durhamrealtors.org
SUMMARY:#3852: Synchronous Cons\, Scams & Hacks
DESCRIPTION:REGISTER \nCybercrime is a threat to brokers and the real estate profession. Learn cybersecurity tips and tricks to protect you and your clients! This course will cover: Risks We All Face | Scams & Cons in Real Estate | Wire Fraud in Real Estate | NC Case Studies. \nThis is a CE elective course you don’t want to miss. \nClass will start promptly at 1:30pm; plan to join at least 15 minutes prior to start time to make sure you have no connection issues. \nTHE NCREC ATTENDANCE RULES APPLY – if you try to join more than 20 minutes after the start of the class\, you will not receive CE credit for the course and will be asked to reschedule. \nCANCELLATION POLICY:  There will be no refunds; however\, you may transfer to another upcoming course subject to space availability\, if notice is given at least 48 hours prior to scheduled class. A $15.00 re-scheduling fee will be charged\, subject to class availability. \n \nBILL GALLAGHER\, Instructor\nCDEI\, Founder\, GRI\, Instructor\, Keynote Speaker \nBill remains one of the most sought-after speakers. He consistently teaches approximately 23\,000 continuing education registrants in classes across the state. As the winner of many awards and recognitions from professional trade organizations and industry peers\, Bill continues to focus on the key benefit of his fun\, informative approach to professional education: Laugh & Learn! \nDRAR Education Provider #1596
URL:https://durhamrealtors.org/event/3852-synchronous-cons-scams-hacks/
LOCATION:ZOOM Webinar\, NC\, United States
END:VEVENT
BEGIN:VEVENT
DTSTART;TZID=America/New_York:20221026T083000
DTEND;TZID=America/New_York:20221026T133000
DTSTAMP:20260424T015132
CREATED:20221026T123000Z
LAST-MODIFIED:20220923T144048Z
UID:11614-1666773000-1666791000@durhamrealtors.org
SUMMARY:#5923 Synchronous GenUp
DESCRIPTION:REGISTER \nTopics:  Material Facts | Dual Agency | Law & Rules Updates | Licensing & Education \nThis 2022-2023 GENUP COURSE must be completed by June 10\, 2023.  BIC and BIC-Eligible brokers will not receive credit for this General Update course. BIC and BIC-eligible brokers must take the Broker-in-Charge Update (BICUP) course #8823 along with a 4-hour CE elective. \nClass will start promptly at 8:30am; plan to join at least 15 minutes prior to start time to make sure you have no connection issues. \nTHE NCREC ATTENDANCE RULES APPLY – if you try to join more than 20 minutes after the start of the class\, you will not receive CE credit for the course and will be asked to reschedule. \nCANCELLATION POLICY:  There will be no refunds; however\, you may transfer to another upcoming course subject to space availability\, if notice is given at least 48 hours prior to scheduled class. A $15.00 re-scheduling fee will be charged\, subject to class availability. \n \nBILL GALLAGHER\, Instructor\nCDEI\, Founder\, GRI\, Instructor\, Keynote Speaker \nBill remains one of the most sought-after speakers. He consistently teaches approximately 23\,000 continuing education registrants in classes across the state. As the winner of many awards and recognitions from professional trade organizations and industry peers\, Bill continues to focus on the key benefit of his fun\, informative approach to professional education: Laugh & Learn! \nDRAR Education Provider #1596
URL:https://durhamrealtors.org/event/5923-genup/
LOCATION:ZOOM Webinar\, NC\, United States
END:VEVENT
BEGIN:VEVENT
DTSTART;TZID=America/New_York:20220922T143000
DTEND;TZID=America/New_York:20220922T153000
DTSTAMP:20260424T015132
CREATED:20220915T115454Z
LAST-MODIFIED:20220915T115454Z
UID:11591-1663857000-1663860600@durhamrealtors.org
SUMMARY:NAR: REALTOR® Safety Coast to Coast
DESCRIPTION:How Safety Differs Across the Nation \nREGISTER
URL:https://durhamrealtors.org/event/nar-realtor-safety-coast-to-coast/
LOCATION:ZOOM Webinar\, NC\, United States
END:VEVENT
BEGIN:VEVENT
DTSTART;TZID=America/New_York:20220921T130000
DTEND;TZID=America/New_York:20220921T140000
DTSTAMP:20260424T015132
CREATED:20220701T121925Z
LAST-MODIFIED:20220701T121925Z
UID:11410-1663765200-1663768800@durhamrealtors.org
SUMMARY:FREE: TMLS Tools to Keep You Safe Out There
DESCRIPTION:REGISTER \nJoin the TMLS Education Team as they share tools to keep you safe as a real estate broker. \nTMLS Website: https://www.trianglemls.com/
URL:https://durhamrealtors.org/event/free-tmls-tools-to-keep-you-safe-out-there/
LOCATION:ZOOM Webinar\, NC\, United States
ORGANIZER;CN="Triangle Multiple Listing Service":MAILTO:RachelW@TriangleMLS.com
END:VEVENT
BEGIN:VEVENT
DTSTART;TZID=America/New_York:20220825T180000
DTEND;TZID=America/New_York:20220825T190000
DTSTAMP:20260424T015132
CREATED:20220825T140937Z
LAST-MODIFIED:20220825T140937Z
UID:11542-1661450400-1661454000@durhamrealtors.org
SUMMARY:Northgate Mall ReZoning via Zoom
DESCRIPTION:REGISTER \nTo Learn More About Walltown Community Association CLICK HERE \nTo attend the meeting by phone\, dial one of the following numbers: \n+1 301 715 8592 or +1 309 205 3325 or  888 788 0099 (Toll Free) \nEnter Webinar ID: 88676286887 \nFor attendance purposes as required by the City of Durham\, individuals participating via telephone will be unmuted and asked to identify themselves including their name and address. \nYou are encouraged to join the meeting via your computer or smartphone so that you will have access to Zoom Webinar’s interactive features including Raise Hand and Chat.
URL:https://durhamrealtors.org/event/northgate-mall-rezoning-via-zoom/
LOCATION:ZOOM Webinar\, NC\, United States
END:VEVENT
BEGIN:VEVENT
DTSTART;TZID=America/New_York:20220817T130000
DTEND;TZID=America/New_York:20220817T140000
DTSTAMP:20260424T015132
CREATED:20220701T121707Z
LAST-MODIFIED:20220701T121707Z
UID:11408-1660741200-1660744800@durhamrealtors.org
SUMMARY:FREE: TMLS How Do You CMA?
DESCRIPTION:REGISTER \nJoin the TMLS Education team as they share information on how to create a Comparative Market Analysis (CMA). \nTMLS Website: https://www.trianglemls.com/
URL:https://durhamrealtors.org/event/free-tmls-how-do-you-cma/
LOCATION:ZOOM Webinar\, NC\, United States
ORGANIZER;CN="Triangle Multiple Listing Service":MAILTO:RachelW@TriangleMLS.com
END:VEVENT
BEGIN:VEVENT
DTSTART;TZID=America/New_York:20220720T130000
DTEND;TZID=America/New_York:20220720T140000
DTSTAMP:20260424T015132
CREATED:20220701T121418Z
LAST-MODIFIED:20220701T121418Z
UID:11406-1658322000-1658325600@durhamrealtors.org
SUMMARY:FREE: TMLS Seek & Send = Farming and Labels Tools
DESCRIPTION:REGISTER \nJoin the TMLS Education team as they share information on MLS Seek & Send – Farming and Label Tools.
URL:https://durhamrealtors.org/event/free-tmls-seek-send-farming-and-labels-tools/
LOCATION:ZOOM Webinar\, NC\, United States
ORGANIZER;CN="Triangle Multiple Listing Service":MAILTO:RachelW@TriangleMLS.com
END:VEVENT
BEGIN:VEVENT
DTSTART;TZID=America/New_York:20220711T100000
DTEND;TZID=America/New_York:20220711T110000
DTSTAMP:20260424T015132
CREATED:20220704T140000Z
LAST-MODIFIED:20220606T155512Z
UID:10461-1657533600-1657537200@durhamrealtors.org
SUMMARY:Durham Public Schools Committee Meeting ZOOM
DESCRIPTION:Interested in attending? \nPlease fill out the 2022 Committee Signup Sheet and email it to:  Services@durhamrealtors.org \nThe strength of the Durham Regional Association of REALTORS® is the involvement of its members. \nYour participation is welcomed and encouraged!
URL:https://durhamrealtors.org/event/durham-public-schools-committee-meeting-2022-07-04/
LOCATION:ZOOM Webinar\, NC\, United States
END:VEVENT
BEGIN:VEVENT
DTSTART;TZID=America/New_York:20220707T130000
DTEND;TZID=America/New_York:20220707T160000
DTSTAMP:20260424T015132
CREATED:20220707T170000Z
LAST-MODIFIED:20220622T122835Z
UID:11390-1657198800-1657209600@durhamrealtors.org
SUMMARY:Nat'l Ethics Day w/Leigh Brown
DESCRIPTION:REGISTER \nFor Class Materials\, click HERE \nRealtor Members will earn their Code of Ethics requirement for NAR’s 3-year cycle
URL:https://durhamrealtors.org/event/natl-ethics-day-w-leigh-brown/
LOCATION:ZOOM Webinar\, NC\, United States
END:VEVENT
BEGIN:VEVENT
DTSTART;TZID=America/New_York:20220621T140000
DTEND;TZID=America/New_York:20220621T153000
DTSTAMP:20260424T015132
CREATED:20220621T144641Z
LAST-MODIFIED:20220621T144641Z
UID:11384-1655820000-1655825400@durhamrealtors.org
SUMMARY:Zoom: Carolina Core Summit
DESCRIPTION:CLICK HERE to join @ 2pm \nWebsite Click Here \nAgenda Click Here \nJoin us for an information-packed afternoon that will inform you about the growth opportunities in the NC Carolina Core. \nThe Carolina Core is home to 4 strategically-located certified mega sites that offer advanced manufacturers room to grow. These sites\, coupled with the lowest corporate income tax in the U.S.\, a future-ready workforce\, and convenient access to major markets\, position the Carolina Core as the ideal location for your company’s next big move. \nEconomic Growth creates jobs\, housing needs\, and development potential and helps everyone in the area prosper.
URL:https://durhamrealtors.org/event/zoom-carolina-core-summit/
LOCATION:ZOOM Webinar\, NC\, United States
END:VEVENT
BEGIN:VEVENT
DTSTART;TZID=America/New_York:20220621T110000
DTEND;TZID=America/New_York:20220621T120000
DTSTAMP:20260424T015132
CREATED:20220609T130805Z
LAST-MODIFIED:20220609T130805Z
UID:11353-1655809200-1655812800@durhamrealtors.org
SUMMARY:NAR Housing Mkt Update Webinar
DESCRIPTION:REGISTER (coming soon) \nJessica Lautz\, VP\, Demographics & Behavioral Insights at the National Association of REALTORS® will offer a virtual briefing on challenges and opportunities in the current housing market.
URL:https://durhamrealtors.org/event/nar-housing-mkt-update-webinar/
LOCATION:ZOOM Webinar\, NC\, United States
END:VEVENT
BEGIN:VEVENT
DTSTART;TZID=America/New_York:20220616T140000
DTEND;TZID=America/New_York:20220616T150000
DTSTAMP:20260424T015132
CREATED:20220527T105641Z
LAST-MODIFIED:20220527T105641Z
UID:11289-1655388000-1655391600@durhamrealtors.org
SUMMARY:Unpacking Systemic Racism in the Real Estate Industry
DESCRIPTION:REGISTER \n(Free workshop)
URL:https://durhamrealtors.org/event/unpacking-systemic-racism-in-the-real-estate-industry/
LOCATION:ZOOM Webinar\, NC\, United States
END:VEVENT
BEGIN:VEVENT
DTSTART;TZID=America/New_York:20220616T130000
DTEND;TZID=America/New_York:20220616T140000
DTSTAMP:20260424T015132
CREATED:20220616T170000Z
LAST-MODIFIED:20220609T124447Z
UID:11347-1655384400-1655388000@durhamrealtors.org
SUMMARY:Connected Conversations: Homeownership Data
DESCRIPTION:REGISTER FREE to Members \nTopic: How to take all the housing data and make a compelling story out of it. Guest: Jennifer McKim\, Deputy Investigative Reporter for the GBH News Center for Investigative Reporting and former housing reporter for the Boston Globe. \nConnected Conversations is a monthly series with a guest speaker followed by live Q&A brought to you by the National Association of REALTORS® and Realtor.com®
URL:https://durhamrealtors.org/event/connected-conversations-homeownership-data/
LOCATION:ZOOM Webinar\, NC\, United States
END:VEVENT
BEGIN:VEVENT
DTSTART;TZID=America/New_York:20220615T130000
DTEND;TZID=America/New_York:20220615T140000
DTSTAMP:20260424T015132
CREATED:20220616T170000Z
LAST-MODIFIED:20220523T114343Z
UID:10975-1655298000-1655301600@durhamrealtors.org
SUMMARY:(Free via Zoom) TMLS: Sharing is Caring\, empowering your buyers and seller
DESCRIPTION:REGISTER \nThis is a free workshop for DRAR members. \nJoin Christy Robertson as she shares information on: \n\nShowingTime\nHomeSpotter\nHomesnap\n\n \nhttps://www.trianglemls.com
URL:https://durhamrealtors.org/event/free-via-zoom-tmls-sharing-is-caring-empowering-your-buyers-and-seller/
LOCATION:ZOOM Webinar\, NC\, United States
END:VEVENT
BEGIN:VEVENT
DTSTART;TZID=America/New_York:20220615T130000
DTEND;TZID=America/New_York:20220615T140000
DTSTAMP:20260424T015132
CREATED:20220609T124408Z
LAST-MODIFIED:20220609T124408Z
UID:11350-1655298000-1655301600@durhamrealtors.org
SUMMARY:Connected Conversations: LGBTQ+
DESCRIPTION:REGISTER  FREE to Members \nTopic: How LGBTQ+ discrimination can hinder the path to homeownership and what the LGBTQ+ Real Estate Alliance is doing to impact change. \nConnected Conversations is a monthly series with a guest speaker followed by live Q&A brought to you by the National Association of REALTORS® and Realtor.com®
URL:https://durhamrealtors.org/event/connected-conversations-lgbtq/
LOCATION:ZOOM Webinar\, NC\, United States
END:VEVENT
BEGIN:VEVENT
DTSTART;TZID=America/New_York:20220607T133000
DTEND;TZID=America/New_York:20220607T173000
DTSTAMP:20260424T015132
CREATED:20220331T121626Z
LAST-MODIFIED:20220331T121626Z
UID:11068-1654608600-1654623000@durhamrealtors.org
SUMMARY:ZOOM: #3988 Synchronous Real Property Appraisals
DESCRIPTION:REGISTER \nThis is a 4-hour Continuing Education Elective course. \nTopic: Understanding the appraisal process is crucial for brokers\, it can make or break the transaction. (CMAs are not the same thing.) Appraisals are inevitable for buyers who need a mortgage. \nSandra O’Connor\, Instructor: GRI\, AHWD\, ABR\, CIPS Certified. Sandra is the Former Chair\, NCREC\, the Past President of NCR and GRRA. She is extremely knowledgeable\, and an experienced broker and educator. \n  \nDRAR NC Certified Education Provider #1596
URL:https://durhamrealtors.org/event/zoom-3988-synchronous-real-property-appraisals-2/
LOCATION:ZOOM Webinar\, NC\, United States
END:VEVENT
BEGIN:VEVENT
DTSTART;TZID=America/New_York:20220607T120000
DTEND;TZID=America/New_York:20220607T130000
DTSTAMP:20260424T015132
CREATED:20220531T111311Z
LAST-MODIFIED:20220531T111311Z
UID:11297-1654603200-1654606800@durhamrealtors.org
SUMMARY:NAR's Broker Power Hour
DESCRIPTION:REGISTER
URL:https://durhamrealtors.org/event/nars-broker-power-hour/
LOCATION:ZOOM Webinar\, NC\, United States
END:VEVENT
BEGIN:VEVENT
DTSTART;TZID=America/New_York:20220607T083000
DTEND;TZID=America/New_York:20220607T123000
DTSTAMP:20260424T015132
CREATED:20220418T093143Z
LAST-MODIFIED:20220418T093143Z
UID:11127-1654590600-1654605000@durhamrealtors.org
SUMMARY:#5822 Synchronous BICUP via Zoom
DESCRIPTION:REGISTER \nThe Real Estate Broker-in-Charge Update  is a continuing education course; a required four-hour annual class for BICs who wish to maintain their license on Active status with the North Carolina Real Estate Commission. If you are not a BIC\, you must take the General Update Course (GENUP). This course is for 2021-2022. \nBICUp Topics: New WWREA Disclosure |Racial Equity | Broker Fiduciary Duties | Law and Rule Updates | Licensing and Education | BIC Best Practices Guide \n\nSandra O’Connor\nAbout Sandra: GRI\, AHWD\, ABR\, CIPS Certified. Sandra is the Former Chair\, NCREC\, and the Past President of NCR and GRRA. She is extremely knowledgeable\, and an experienced broker and educator. \n\n\nDRAR Certified Education Provider #1596
URL:https://durhamrealtors.org/event/5822-synchronous-bicup-via-zoom-3/
LOCATION:ZOOM Webinar\, NC\, United States
END:VEVENT
BEGIN:VEVENT
DTSTART;TZID=America/New_York:20220518T130000
DTEND;TZID=America/New_York:20220518T140000
DTSTAMP:20260424T015132
CREATED:20220317T162328Z
LAST-MODIFIED:20220317T162328Z
UID:10972-1652878800-1652882400@durhamrealtors.org
SUMMARY:(Free via Zoom) TMLS: Paragon in Your Pocket
DESCRIPTION:REGISTER \nThis is a Zoom Workshop\, free to DRAR Members. \nJoin Christy Robertson as she shares information about Paragon Connect\, the mobile optimized web app \n \nhttps://trianglemls.com
URL:https://durhamrealtors.org/event/free-via-zoom-tmls-paragon-in-your-pocket/
LOCATION:ZOOM Webinar\, NC\, United States
END:VEVENT
BEGIN:VEVENT
DTSTART;TZID=America/New_York:20220512T133000
DTEND;TZID=America/New_York:20220512T173000
DTSTAMP:20260424T015132
CREATED:20220331T121502Z
LAST-MODIFIED:20220331T121502Z
UID:11066-1652362200-1652376600@durhamrealtors.org
SUMMARY:ZOOM #3988: Synchronous Real Property Appraisals
DESCRIPTION:REGISTER \nThis is a 4-hour Continuing Education Elective course. \nTopic: Understanding the appraisal process is crucial for brokers\, it can make or break the transaction. (CMAs are not the same thing.) Appraisals are inevitable for buyers who need a mortgage. \nSandra O’Connor\, Instructor: GRI\, AHWD\, ABR\, CIPS Certified. Sandra is the Former Chair\, NCREC\, the Past President of NCR and GRRA. She is extremely knowledgeable\, and an experienced broker and educator. \n  \nDRAR NC Certified Education Provider #1596
URL:https://durhamrealtors.org/event/zoom-3988-synchronous-real-property-appraisals/
LOCATION:ZOOM Webinar\, NC\, United States
END:VEVENT
BEGIN:VEVENT
DTSTART;TZID=America/New_York:20220512T083000
DTEND;TZID=America/New_York:20220512T123000
DTSTAMP:20260424T015132
CREATED:20220331T121127Z
LAST-MODIFIED:20220331T121127Z
UID:11064-1652344200-1652358600@durhamrealtors.org
SUMMARY:ZOOM #5922: Synchronous GENUP
DESCRIPTION:REGISTER \nThe Real Estate General Update Course is a required four-hour annual class for licensees who are NOT designated as BIC-eligible and who wish to maintain their license on “Active” status with the North Carolina Real Estate Commission. This course is for 2021-2022. \nGenUp Topics: New WWREA Disclosure |Racial Equity | Broker Fiduciary Duties | Law and Rule Updates | Licensing and Education \n\nBill Gallagher\, Instructor\nAbout Bill: With over three decades of real estate industry experience\, there’s hardly a law\, issue\, or definition Bill doesn’t know. He remains one of the school’s most sought-after speakers. As the winner of many awards and recognition from professional trade organizations and industry peers\, Bill continues to focus on the key benefit of his fun\, informative approach to professional education: Laugh and Learn! \n\n\n\nDRAR Education Provider #1596
URL:https://durhamrealtors.org/event/zoom-5922-synchronous-genup-2/
LOCATION:ZOOM Webinar\, NC\, United States
END:VEVENT
BEGIN:VEVENT
DTSTART;TZID=America/New_York:20220511T120000
DTEND;TZID=America/New_York:20220511T130000
DTSTAMP:20260424T015132
CREATED:20220505T133334Z
LAST-MODIFIED:20220505T133334Z
UID:11230-1652270400-1652274000@durhamrealtors.org
SUMMARY:FREE: Zip Forms Workshop
DESCRIPTION:REGISTER \nThis workshop will cover:\n*  the new HW feature\n*  zipForm Edition fundamentals\n*  Updater\, Earnnest and Sellers Shield \nFundamentals\, include: \n*  Profile Settings\n*  Software Navigation\n*  Creating a Transaction\n*  Navigating a Transaction\n*  Title/Home Warranty\n*  The Marketplace
URL:https://durhamrealtors.org/event/free-zip-forms-workshop/
LOCATION:ZOOM Webinar\, NC\, United States
END:VEVENT
BEGIN:VEVENT
DTSTART;TZID=America/New_York:20220427T100000
DTEND;TZID=America/New_York:20220427T230000
DTSTAMP:20260424T015132
CREATED:20220427T140000Z
LAST-MODIFIED:20220407T134042Z
UID:11091-1651053600-1651100400@durhamrealtors.org
SUMMARY:Zoom:  Down Payment Assistance Program
DESCRIPTION:REGISTER \n\nIvelisse Mercado \n\nThe City of Durham has contracted Community Home Trust to facilitate the Downpayment Assistance Program to provide outreach for the program.\nThe eligibility requirements are that applicants must be first time home-buyers\, meet 80% AMI income requirements\, either live or work in Durham for at least a year\, and complete first time home-buyers education and a one on one financial counseling session.\nCommunity Home Trust receives applications and documents to determine eligibility for the program. Community Home Trust also provides first time home-buyers education course and one on one financial counseling session.\nApplicants must have their own realty representation and a pre-qualification letter from a lender.\nThe home they purchase must be within City of Durham limits.\n\nFor more information visit: Community Home Trust
URL:https://durhamrealtors.org/event/zoom-down-payment-assistance-program/
LOCATION:ZOOM Webinar\, NC\, United States
END:VEVENT
BEGIN:VEVENT
DTSTART;TZID=America/New_York:20220420T130000
DTEND;TZID=America/New_York:20220420T140000
DTSTAMP:20260424T015132
CREATED:20220317T121919Z
LAST-MODIFIED:20220317T121919Z
UID:10959-1650459600-1650463200@durhamrealtors.org
SUMMARY:(Free via Zoom) TMLS: Keeping a Pulse on the Market
DESCRIPTION:REGISTER \nThis is a Zoom Workshop\, free to DRAR Members. \nJoin Christy Robertson\, TMLS Lockbox Specialist & Ancillary Tools Manager as she shares how to keep a pulse on this market using: \n\nHot Sheets\nMarket Monitor\nAuto Searches\n\n \nhttps://trianglemls.com/ \n 
URL:https://durhamrealtors.org/event/free-via-zoom-tmls-keeping-a-pulse-on-the-market/
LOCATION:ZOOM Webinar\, NC\, United States
END:VEVENT
END:VCALENDAR